BEGIN:VCALENDAR
VERSION:2.0
PRODID:-//wp-events-plugin.com//7.2.3.1//EN
TZID:America/Phoenix
X-WR-TIMEZONE:America/Phoenix
BEGIN:VEVENT
UID:44@al-anoneastvalley.org
DTSTART;TZID=America/Phoenix:20250330T113000
DTEND;TZID=America/Phoenix:20250330T133000
DTSTAMP:20250225T032332Z
URL:https://al-anoneastvalley.org/event-calendar/district-11-picnic
SUMMARY:District 11 Fellowship Picnic
DESCRIPTION:District 11 Picnic Flyer -  PDF\nHot dogs\, hamburgers\, water
 \, and ice will be provided.  Please bring a side dish or a dessert to sh
 are.\nBring your lawn chair for a more comfortable experience.\n
ATTACH;FMTTYPE=image/jpeg:https://al-anoneastvalley.org/wp-content/uploads
 /2025/02/Flyer-1-1.jpg
CATEGORIES:District 11 Event
LOCATION:Freestone Park\, 1045 E Juniper Ave\, Gilbert\, AZ\, 85234\, Unite
 d States
GEO:33.358886;-111.769235
X-APPLE-STRUCTURED-LOCATION;VALUE=URI;X-ADDRESS=1045 E Juniper Ave\, Gilber
 t\, AZ\, 85234\, United States;X-APPLE-RADIUS=100;X-TITLE=Freestone Park:g
 eo:33.358886,-111.769235
END:VEVENT
BEGIN:VTIMEZONE
TZID:America/Phoenix
X-LIC-LOCATION:America/Phoenix
BEGIN:STANDARD
DTSTART:20240330T113000
TZOFFSETFROM:-0700
TZOFFSETTO:-0700
TZNAME:MST
END:STANDARD
END:VTIMEZONE
END:VCALENDAR